{
 "currentVersion": 10.6,
 "serviceDescription": "Image_Services/Basemap2017_Cache",
 "name": "Image_Services/Basemap2017_Cache",
 "description": "",
 "extent": {
  "xmin": 6022192.534722209,
  "ymin": 2057180.1215277878,
  "xmax": 6106506.987847209,
  "ymax": 2157436.8489583433,
  "spatialReference": {
   "wkid": 103005,
   "latestWkid": 6420
  }
 },
 "initialExtent": {
  "xmin": 6022192.534722209,
  "ymin": 2057180.1215277878,
  "xmax": 6106506.987847209,
  "ymax": 2157436.8489583433,
  "spatialReference": {
   "wkid": 103005,
   "latestWkid": 6420
  }
 },
 "fullExtent": {
  "xmin": 6022192.534722209,
  "ymin": 2057180.1215277878,
  "xmax": 6106506.987847209,
  "ymax": 2157436.8489583433,
  "spatialReference": {
   "wkid": 103005,
   "latestWkid": 6420
  }
 },
 "pixelSizeX": 0.2170138888888889,
 "pixelSizeY": 0.21701388888888878,
 "bandCount": 3,
 "pixelType": "U8",
 "minPixelSize": 0,
 "maxPixelSize": 0,
 "copyrightText": "",
 "serviceDataType": "esriImageServiceDataTypeRGB",
 "minValues": [],
 "maxValues": [],
 "meanValues": [],
 "stdvValues": [],
 "objectIdField": "",
 "fields": [],
 "capabilities": "Image,Metadata,Mensuration",
 "defaultMosaicMethod": "Center",
 "allowedMosaicMethods": "",
 "sortField": "",
 "sortValue": null,
 "mosaicOperator": "First",
 "defaultCompressionQuality": 75,
 "defaultResamplingMethod": "Bilinear",
 "maxImageHeight": 4100,
 "maxImageWidth": 15000,
 "allowRasterFunction": true,
 "rasterFunctionInfos": [
  {
   "name": "None",
   "description": "",
   "help": ""
  }
 ],
 "rasterTypeInfos": [
  {
   "name": "Raster Dataset",
   "description": "Supports all ArcGIS Raster Datasets",
   "help": ""
  }
 ],
 "mensurationCapabilities": "Basic",
 "hasHistograms": false,
 "hasColormap": false,
 "hasRasterAttributeTable": false,
 "minScale": 0,
 "maxScale": 0,
 "exportTilesAllowed": false,
 "hasMultidimensions": false,
 "supportsStatistics": false,
 "supportsAdvancedQueries": false,
 "editFieldsInfo": null,
 "ownershipBasedAccessControlForRasters": null,
 "allowComputeTiePoints": false,
 "useStandardizedQueries": true,
 "advancedQueryCapabilities": {
  "useStandardizedQueries": true,
  "supportsStatistics": false,
  "supportsOrderBy": false,
  "supportsDistinct": false,
  "supportsPagination": false
 },
 "spatialReference": {
  "wkid": 103005,
  "latestWkid": 6420
 }
}
