View In:
ArcGIS JavaScript
ArcGIS Online Map Viewer
ArcGIS Earth
ArcMap
View Footprint In:
ArcGIS Online Map Viewer
Service Description: oakland bsemap for 2019
Name: Cache_Services/Oakland_Basemap2019
Description: oakland bsemap for 2019
Single Fused Map Cache: false
Extent:
XMin: 5849617.447916657
YMin: 1941007.3784722388
XMax: 6283919.53124999
YMax: 2245409.722222239
Spatial Reference: 102643
(2227)
Initial Extent:
XMin: 5849617.447916657
YMin: 1941007.3784722388
XMax: 6283919.53124999
YMax: 2245409.722222239
Spatial Reference: 102643
(2227)
Full Extent:
XMin: 5849617.447916657
YMin: 1941007.3784722388
XMax: 6283919.53124999
YMax: 2245409.722222239
Spatial Reference: 102643
(2227)
Pixel Size X: 0.43402777777777746
Pixel Size Y: 0.4340277777777778
Band Count: 3
Pixel Type: U8
RasterFunction Infos: {"name":"None","description":"","help":""}
Mensuration Capabilities: Basic
Has Histograms: false
Has Colormap: false
Has Multi Dimensions : false
Rendering Rule:
Min Scale: 0
Max Scale: 0
Copyright Text: City of Oakland GIS
Service Data Type: esriImageServiceDataTypeRGB
Min Values: N/A
Max Values: N/A
Mean Values: N/A
Standard Deviation Values: N/A
Object ID Field:
Fields:
None
Default Mosaic Method: Center
Allowed Mosaic Methods:
SortField:
SortValue: null
Mosaic Operator: First
Default Compression Quality: 75
Default Resampling Method: Bilinear
Max Record Count: null
Max Image Height: 4100
Max Image Width: 15000
Max Download Image Count: null
Max Mosaic Image Count: null
Allow Raster Function: true
Allow Compute TiePoints: false
Supports Statistics: false
Supports Advanced Queries: false
Use StandardizedQueries: true
Raster Type Infos:
Name: Raster Dataset
Description: Supports all ArcGIS Raster Datasets
Help:
Has Raster Attribute Table: false
Edit Fields Info: null
Ownership Based AccessControl For Rasters: null
Child Resources:
Info
Key Properties
Legend
MultiDimensionalInfo
rasterFunctionInfos
Supported Operations:
Export Image
Identify
Measure
Compute Histograms
Compute Statistics Histograms
Get Samples
Compute Class Statistics
Query Boundary