View In:
ArcGIS JavaScript
ArcGIS Online Map Viewer
ArcGIS Earth
ArcMap
View Footprint In:
ArcGIS Online Map Viewer
Service Description: Orthos_2007
Name: Image_Services/Orthos_2007
Description: Orthos_2007
Single Fused Map Cache: false
Extent:
XMin: 6023999.525000001
YMin: 2051999.2760000038
XMax: 6108000.439999999
YMax: 2160000.5
Spatial Reference: PROJCS["NAD83_California_zone_3",GEOGCS["GCS_North_American_1983",DATUM["D_North_American_1983",SPHEROID["GRS_1980",6378137.0,298.257222101]],PRIMEM["Greenwich",0.0],UNIT["Degree",0.0174532925199433]],PROJECTION["Lambert_Conformal_Conic"],PARAMETER["false_easting",6561666.666666666],PARAMETER["false_northing",1640416.666666667],PARAMETER["central_meridian",-120.5],PARAMETER["standard_parallel_1",37.06666666666667],PARAMETER["standard_parallel_2",38.43333333333333],PARAMETER["latitude_of_origin",36.5],UNIT["Foot_US",0.3048006096012192]]
Initial Extent:
XMin: 6023999.525000001
YMin: 2051999.2760000038
XMax: 6108000.439999999
YMax: 2160000.5
Spatial Reference: PROJCS["NAD83_California_zone_3",GEOGCS["GCS_North_American_1983",DATUM["D_North_American_1983",SPHEROID["GRS_1980",6378137.0,298.257222101]],PRIMEM["Greenwich",0.0],UNIT["Degree",0.0174532925199433]],PROJECTION["Lambert_Conformal_Conic"],PARAMETER["false_easting",6561666.666666666],PARAMETER["false_northing",1640416.666666667],PARAMETER["central_meridian",-120.5],PARAMETER["standard_parallel_1",37.06666666666667],PARAMETER["standard_parallel_2",38.43333333333333],PARAMETER["latitude_of_origin",36.5],UNIT["Foot_US",0.3048006096012192]]
Full Extent:
XMin: 6023999.525000001
YMin: 2051999.2760000038
XMax: 6108000.439999999
YMax: 2160000.5
Spatial Reference: PROJCS["NAD83_California_zone_3",GEOGCS["GCS_North_American_1983",DATUM["D_North_American_1983",SPHEROID["GRS_1980",6378137.0,298.257222101]],PRIMEM["Greenwich",0.0],UNIT["Degree",0.0174532925199433]],PROJECTION["Lambert_Conformal_Conic"],PARAMETER["false_easting",6561666.666666666],PARAMETER["false_northing",1640416.666666667],PARAMETER["central_meridian",-120.5],PARAMETER["standard_parallel_1",37.06666666666667],PARAMETER["standard_parallel_2",38.43333333333333],PARAMETER["latitude_of_origin",36.5],UNIT["Foot_US",0.3048006096012192]]
Pixel Size X: 0.3329999999999891
Pixel Size Y: 0.3329999999999883
Band Count: 3
Pixel Type: U8
RasterFunction Infos: {"name":"None","description":"","help":""}
Mensuration Capabilities:
Has Histograms: true
Has Colormap: false
Has Multi Dimensions : false
Rendering Rule:
Min Scale: 0
Max Scale: 0
Copyright Text:
Service Data Type: esriImageServiceDataTypeRGB
Min Values: 0, 0, 0
Max Values: 255, 255, 255
Mean Values: 98.37494429125799, 98.9005413259224, 87.49116087960027
Standard Deviation Values: 45.34826928255687, 40.57078557673552, 38.562672925129
Object ID Field: OBJECTID
Fields:
-
OBJECTID
(
type: esriFieldTypeOID
, alias: OBJECTID
)
-
Shape
(
type: esriFieldTypeGeometry
, alias: Shape
)
-
Name
(
type: esriFieldTypeString
, alias: Name
, length: 50
)
-
MinPS
(
type: esriFieldTypeDouble
, alias: MinPS
)
-
MaxPS
(
type: esriFieldTypeDouble
, alias: MaxPS
)
-
LowPS
(
type: esriFieldTypeDouble
, alias: LowPS
)
-
HighPS
(
type: esriFieldTypeDouble
, alias: HighPS
)
-
Category
(
type: esriFieldTypeInteger
, alias: Category
)
-
Tag
(
type: esriFieldTypeString
, alias: Tag
, length: 20
)
-
GroupName
(
type: esriFieldTypeString
, alias: GroupName
, length: 50
)
-
ProductName
(
type: esriFieldTypeString
, alias: ProductName
, length: 50
)
-
CenterX
(
type: esriFieldTypeDouble
, alias: CenterX
)
-
CenterY
(
type: esriFieldTypeDouble
, alias: CenterY
)
-
ZOrder
(
type: esriFieldTypeInteger
, alias: ZOrder
)
-
SOrder
(
type: esriFieldTypeInteger
, alias: SOrder
)
-
StereoID
(
type: esriFieldTypeString
, alias: StereoID
, length: 50
)
-
Shape_Length
(
type: esriFieldTypeDouble
, alias: Shape_Length
)
-
Shape_Area
(
type: esriFieldTypeDouble
, alias: Shape_Area
)
-
Thumbnail
(
type: esriFieldTypeBlob
, alias: Thumbnail
)
Default Mosaic Method: Center
Allowed Mosaic Methods: Center,NorthWest,LockRaster,ByAttribute,Nadir,Viewpoint,Seamline,None
SortField:
SortValue: null
Mosaic Operator: First
Default Compression Quality: 75
Default Resampling Method: Bilinear
Max Record Count: 1000
Max Image Height: 4100
Max Image Width: 15000
Max Download Image Count: 20
Max Mosaic Image Count: 20
Allow Raster Function: true
Allow Compute TiePoints: false
Supports Statistics: true
Supports Advanced Queries: true
Use StandardizedQueries: true
Raster Type Infos:
Name: Raster Dataset
Description: Supports all ArcGIS Raster Datasets
Help:
Has Raster Attribute Table: false
Edit Fields Info: null
Ownership Based AccessControl For Rasters: null
Child Resources:
Info
Histograms
Key Properties
Legend
MultiDimensionalInfo
rasterFunctionInfos
Supported Operations:
Export Image
Query
Identify
Compute Histograms
Compute Statistics Histograms
Get Samples
Compute Class Statistics
Query Boundary