View In:
ArcGIS JavaScript
ArcGIS Online Map Viewer
ArcGIS Earth
ArcMap
View Footprint In:
ArcGIS Online Map Viewer
Service Description: Image_Services/Basemap2017_Cache
Name: Image_Services/Basemap2017_Cache
Description:
Single Fused Map Cache: false
Extent:
XMin: 6022192.534722209
YMin: 2057180.1215277878
XMax: 6106506.987847209
YMax: 2157436.8489583433
Spatial Reference: 103005
(6420)
Initial Extent:
XMin: 6022192.534722209
YMin: 2057180.1215277878
XMax: 6106506.987847209
YMax: 2157436.8489583433
Spatial Reference: 103005
(6420)
Full Extent:
XMin: 6022192.534722209
YMin: 2057180.1215277878
XMax: 6106506.987847209
YMax: 2157436.8489583433
Spatial Reference: 103005
(6420)
Pixel Size X: 0.2170138888888889
Pixel Size Y: 0.21701388888888878
Band Count: 3
Pixel Type: U8
RasterFunction Infos: {"name":"None","description":"","help":""}
Mensuration Capabilities: Basic
Has Histograms: false
Has Colormap: false
Has Multi Dimensions : false
Rendering Rule:
Min Scale: 0
Max Scale: 0
Copyright Text:
Service Data Type: esriImageServiceDataTypeRGB
Min Values: N/A
Max Values: N/A
Mean Values: N/A
Standard Deviation Values: N/A
Object ID Field:
Fields:
None
Default Mosaic Method: Center
Allowed Mosaic Methods:
SortField:
SortValue: null
Mosaic Operator: First
Default Compression Quality: 75
Default Resampling Method: Bilinear
Max Record Count: null
Max Image Height: 4100
Max Image Width: 15000
Max Download Image Count: null
Max Mosaic Image Count: null
Allow Raster Function: true
Allow Compute TiePoints: false
Supports Statistics: false
Supports Advanced Queries: false
Use StandardizedQueries: true
Raster Type Infos:
Name: Raster Dataset
Description: Supports all ArcGIS Raster Datasets
Help:
Has Raster Attribute Table: false
Edit Fields Info: null
Ownership Based AccessControl For Rasters: null
Child Resources:
Info
Key Properties
Legend
MultiDimensionalInfo
rasterFunctionInfos
Supported Operations:
Export Image
Identify
Measure
Compute Histograms
Compute Statistics Histograms
Get Samples
Compute Class Statistics
Query Boundary